BEGIN:VCALENDAR
VERSION:2.0
METHOD:PUBLISH
PRODID:-//Tendenci - The Open Source AMS for Associations//Tendenci Codeba
 se MIMEDIR//EN
BEGIN:VEVENT
DESCRIPTION:--- This iCal file does *NOT* confirm registration.\nEvent det
 ails subject to change. ---\nhttps://www.iscwsa.net/events/50/\n\nEvent Ti
 tle: ISCWSA Meeting 49\nStart Date / Time: Mar 08, 2019 00:00 AM US/Centra
 l\nLocation: The Hague, The Netherlands\nMinutes\nMeeting Minutes\n \nPres
 entations\n\nLow Angle Survey Errors\nUncertainty In Depth: Reduced\nElimi
 nating Rig Time from MWD Surveying\nEstimating Errors for High Definition 
 Geomagnetic models\nFrom an Art to a Science: Factory Drilling Plug and Ab
 andonment Wells at Twice the Speed for Half the Cost\nCombined Gyroscopic 
 and Magnetic Surveys Provide Improved Magnetic Survey Data and Enhanced Su
 rvey Quality Control\nFundamentals of Magnetic Sensor Calibration with Res
 pect to MEMS-Based and Traditional Fluxgate MWD Sensor Systems\nKeynote Pr
 esentation: Interactive Well Path Planning with integrated Geoscience and 
 Cultural Data \n\n \nReports\n\nMeeting 49 Survey QAQC Subcommittee Report
 \nMeeting 49 Well Intercept Subcommittee Report\nMeeting 49 Treasurer Repo
 rt\nMeeting 49 Education Subcommittee Report\nMeeting 49 Webmaster Report\
 nMeeting 49 Collision-Avoidance Subcommittee Report\nMeeting 49 Error-Mode
 l Subcommittee Report\n\n \n \n \n\n--- This iCal file does *NOT* confirm 
 registration.Event details subject to change. ---\n\n--- By Tendenci - The
  Open Source AMS for Associations ---\n
UID:uid50@iscwsa.net
SUMMARY:ISCWSA Meeting 49
DTSTART:20190308T060000Z
DTEND:20190309T055959Z
CLASS:PUBLIC
PRIORITY:5
DTSTAMP:20260421T090759Z
TRANSP:OPAQUE
SEQUENCE:0
LOCATION:The Hague, The Netherlands
X-ALT-DESC;FMTTYPE=text/html:<div>--- This iCal file does *NOT* confirm re
 gistration.Event details subject to change. ---</div><h1>Event Title: ISCW
 SA Meeting 49</h1><div>https://www.iscwsa.net/events/50/</div><br /><div>W
 hen: Mar 08, 2019 00:00 AM US/Central</div><br /><div><h3>Minutes</h3> <p>
 <a title="Meeting Minutes 49" href="/files/160/">Meeting Minutes</a></p> <
 p>&nbsp\;</p> <h3>Presentations</h3> <ol> <li><a title="Low Angle Survey E
 rrors" href="/files/179/">Low Angle Survey Errors</a></li> <li><a title="U
 ncertainty in Depth: Reduced" href="/files/177/">Uncertainty In Depth: Red
 uced</a></li> <li><a title="Eliminating Rig Time from MWD Surveying" href=
 "/files/176/">Eliminating Rig Time from MWD Surveying</a></li> <li><a titl
 e="Estimating Errors for High Definition Geomagnetic models&nbsp\;&nbsp\;"
  href="/files/175/">Estimating Errors for High Definition Geomagnetic mode
 ls</a></li> <li><a title="From an Art to a Science: Factory Drilling Plug 
 and Abandonment Wells at Twice the Speed for Half the Cost&nbsp\;&nbsp\;&n
 bsp\;" href="/files/172/">From an Art to a Science: Factory Drilling Plug 
 and Abandonment Wells at Twice the Speed for Half the Cost</a></li> <li><a
  title="Combined Gyroscopic and Magnetic Surveys Provide Improved Magnetic
  Survey Data and Enhanced Survey Quality Control&nbsp\;" href="/files/169/
 ">Combined Gyroscopic and Magnetic Surveys Provide Improved Magnetic Surve
 y Data and Enhanced Survey Quality Control</a></li> <li><a title="Fundamen
 tals of Magnetic Sensor Calibration with Respect to MEMS-Based and Traditi
 onal Fluxgate MWD Sensor Systems" href="/files/167/">Fundamentals of Magne
 tic Sensor Calibration with Respect to MEMS-Based and Traditional Fluxgate
  MWD Sensor Systems</a></li> <li><a title="Keynote Presentation: Interacti
 ve Well Path Planning with integrated Geoscience and Cultural Data&nbsp\;"
  href="/files/164/">Keynote Presentation: Interactive Well Path Planning w
 ith integrated Geoscience and Cultural Data</a>&nbsp\;</li> </ol> <p>&nbsp
 \;</p> <h3>Reports</h3> <ol> <li><a title="Meeting 49 Survey QAQC Subcommi
 ttee Report" href="/files/173/">Meeting 49 Survey QAQC Subcommittee Report
 </a></li> <li><a title="Meeting 49 Survey Well Intercept Subcommittee Repo
 rt" href="/files/180/">Meeting 49 Well Intercept Subcommittee Report</a></
 li> <li><a title="Meeting 49 Treasurer Report" href="/files/168/">Meeting 
 49 Treasurer Report</a></li> <li><a title="Meeting 49 Education Subcommitt
 ee Report" href="/files/178/">Meeting 49 Education Subcommittee Report</a>
 </li> <li><a title="Meeting 49 Webmaster Report" href="/files/171/">Meetin
 g 49 Webmaster Report</a></li> <li><a title="Meeting 49 Collision Avoidanc
 e Subcommittee Report" href="/files/165/">Meeting 49 Collision-Avoidance S
 ubcommittee Report</a></li> <li><a title="Meeting 49 Error-Model Subcommit
 tee Report" href="/files/166/">Meeting 49 Error-Model Subcommittee Report<
 /a></li> </ol> <p>&nbsp\;</p> <p>&nbsp\;</p> <p>&nbsp\;</p></div><div>--- 
 This iCal file does *NOT* confirm registration.Event details subject to ch
 ange. ---</div><div>--- Tendenci&reg\; Software by <a href="https://www.te
 ndenci.com">tendenci.com</a> - The Open Source AMS for Associations ---</d
 iv>
BEGIN:VALARM
TRIGGER:-PT30M
ACTION:DISPLAY
DESCRIPTION:Reminder
END:VALARM
END:VEVENT
END:VCALENDAR
