BEGIN:VCALENDAR
VERSION:2.0
METHOD:PUBLISH
PRODID:-//Tendenci - The Open Source AMS for Associations//Tendenci Codeba
 se MIMEDIR//EN
BEGIN:VEVENT
DESCRIPTION:--- This iCal file does *NOT* confirm registration.\nEvent det
 ails subject to change. ---\nhttps://www.iscwsa.net/events/57/\n\nEvent Ti
 tle: OWSG SubCommittee Meeting 04\nStart Date / Time: Dec 05, 2012 00:00 A
 M US/Central\nLocation: Houston, Texas USA\nHost: BP\nMeeting Minutes\n\n-
 -- This iCal file does *NOT* confirm registration.Event details subject to
  change. ---\n\n--- By Tendenci - The Open Source AMS for Associations ---
 \n
UID:uid57@iscwsa.net
SUMMARY:OWSG SubCommittee Meeting 04
DTSTART:20121205T060000Z
DTEND:20121206T055959Z
CLASS:PUBLIC
PRIORITY:5
DTSTAMP:20260423T125110Z
TRANSP:OPAQUE
SEQUENCE:0
LOCATION:Houston, Texas USA
X-ALT-DESC;FMTTYPE=text/html:<div>--- This iCal file does *NOT* confirm re
 gistration.Event details subject to change. ---</div><h1>Event Title: OWSG
  SubCommittee Meeting 04</h1><div>https://www.iscwsa.net/events/57/</div><
 br /><div>When: Dec 05, 2012 00:00 AM US/Central</div><br /><div><p>Host: 
 BP</p> <p><a title="OWSGMIN04" href="/files/118/">Meeting Minutes</a></p><
 /div><div>--- This iCal file does *NOT* confirm registration.Event details
  subject to change. ---</div><div>--- Tendenci&reg\; Software by <a href="
 https://www.tendenci.com">tendenci.com</a> - The Open Source AMS for Assoc
 iations ---</div>
BEGIN:VALARM
TRIGGER:-PT30M
ACTION:DISPLAY
DESCRIPTION:Reminder
END:VALARM
END:VEVENT
END:VCALENDAR
