BEGIN:VCALENDAR
VERSION:2.0
METHOD:PUBLISH
PRODID:-//Tendenci - The Open Source AMS for Associations//Tendenci Codeba
 se MIMEDIR//EN
BEGIN:VEVENT
DESCRIPTION:--- This iCal file does *NOT* confirm registration.\nEvent det
 ails subject to change. ---\nhttps://www.iscwsa.net/events/55/\n\nEvent Ti
 tle: OWSG SubCommittee Meeting 02\nStart Date / Time: Jun 06, 2012 00:00 A
 M US/Central\nLocation: Houston, Texas USA\nHost: Chevron\nNo Minutes\n\n-
 -- This iCal file does *NOT* confirm registration.Event details subject to
  change. ---\n\n--- By Tendenci - The Open Source AMS for Associations ---
 \n
UID:uid55@iscwsa.net
SUMMARY:OWSG SubCommittee Meeting 02
DTSTART:20120606T050000Z
DTEND:20120607T045959Z
CLASS:PUBLIC
PRIORITY:5
DTSTAMP:20260423T100610Z
TRANSP:OPAQUE
SEQUENCE:0
LOCATION:Houston, Texas USA
X-ALT-DESC;FMTTYPE=text/html:<div>--- This iCal file does *NOT* confirm re
 gistration.Event details subject to change. ---</div><h1>Event Title: OWSG
  SubCommittee Meeting 02</h1><div>https://www.iscwsa.net/events/55/</div><
 br /><div>When: Jun 06, 2012 00:00 AM US/Central</div><br /><div><p>Host: 
 Chevron</p> <p>No Minutes</p></div><div>--- This iCal file does *NOT* conf
 irm registration.Event details subject to change. ---</div><div>--- Tenden
 ci&reg\; Software by <a href="https://www.tendenci.com">tendenci.com</a> -
  The Open Source AMS for Associations ---</div>
BEGIN:VALARM
TRIGGER:-PT30M
ACTION:DISPLAY
DESCRIPTION:Reminder
END:VALARM
END:VEVENT
END:VCALENDAR
