BEGIN:VCALENDAR
VERSION:2.0
METHOD:PUBLISH
PRODID:-//Tendenci - The Open Source AMS for Associations//Tendenci Codeba
 se MIMEDIR//EN
BEGIN:VEVENT
DESCRIPTION:--- This iCal file does *NOT* confirm registration.\nEvent det
 ails subject to change. ---\nhttps://www.iscwsa.net/events/53/\n\nEvent Ti
 tle: Well Intercept SubCommittee Meeting 01\nStart Date / Time: Mar 07, 20
 13 00:00 AM US/Central\nLocation: Paris, France\nMeeting Minutes\n\n--- Th
 is iCal file does *NOT* confirm registration.Event details subject to chan
 ge. ---\n\n--- By Tendenci - The Open Source AMS for Associations ---\n
UID:uid53@iscwsa.net
SUMMARY:Well Intercept SubCommittee Meeting 01
DTSTART:20130307T060000Z
DTEND:20130308T055959Z
CLASS:PUBLIC
PRIORITY:5
DTSTAMP:20260423T095756Z
TRANSP:OPAQUE
SEQUENCE:0
LOCATION:Paris, France
X-ALT-DESC;FMTTYPE=text/html:<div>--- This iCal file does *NOT* confirm re
 gistration.Event details subject to change. ---</div><h1>Event Title: Well
  Intercept SubCommittee Meeting 01</h1><div>https://www.iscwsa.net/events/
 53/</div><br /><div>When: Mar 07, 2013 00:00 AM US/Central</div><br /><div
 ><p><a title="WISCMIN0313" href="/files/116/">Meeting Minutes</a></p></div
 ><div>--- This iCal file does *NOT* confirm registration.Event details sub
 ject to change. ---</div><div>--- Tendenci&reg\; Software by <a href="http
 s://www.tendenci.com">tendenci.com</a> - The Open Source AMS for Associati
 ons ---</div>
BEGIN:VALARM
TRIGGER:-PT30M
ACTION:DISPLAY
DESCRIPTION:Reminder
END:VALARM
END:VEVENT
END:VCALENDAR
