BEGIN:VCALENDAR
VERSION:2.0
METHOD:PUBLISH
PRODID:-//Tendenci - The Open Source AMS for Associations//Tendenci Codeba
 se MIMEDIR//EN
BEGIN:VEVENT
DESCRIPTION:--- This iCal file does *NOT* confirm registration.\nEvent det
 ails subject to change. ---\nhttps://www.iscwsa.net/events/48/\n\nEvent Ti
 tle: ISCWSA Meeting 47\nStart Date / Time: Apr 11, 2018 00:00 AM US/Centra
 l\nLocation: Inverness, Scotland\nMinutes\nMeeting Minutes\nMeeting Agenda
  \n \nPresentations\n\nEarth Magnetic Anomaly Grid (EMAG2- v3) Public Map 
 API Announcement\nGross Error Detection for Typical gyroMWD Operations\nHo
 llistic Approach to Survey Error Budgets\nSurvey QC, Decision Making and a
  Modest Proposal for Error Models\nTool Face Efficiency, Virtual Surveys, 
 and Positional Uncertainty - an Introductory Discussion\nContinuous Wellbo
 re Path Estimation Using Multiple Integrated MEMS Sensors\nWhat Depth ? Mo
 re accurate Driller&rsquo\;s Depth DwpD Field Results\nKeynote Presentatio
 n: A New World of Surveying\n\nReports\n\nSurvey QAQC and Webmaster Report
 \nTreasurers Report\nError-Model Subcommittee Report\nOWSG Subcommittee Re
 port\nEducation Subcommittee Report\nWell Intercept SubCommittee Report\nC
 ollision-Avoidance SubCommittee Report\n\n \n\n--- This iCal file does *NO
 T* confirm registration.Event details subject to change. ---\n\n--- By Ten
 denci - The Open Source AMS for Associations ---\n
UID:uid48@iscwsa.net
SUMMARY:ISCWSA Meeting 47
DTSTART:20180411T050000Z
DTEND:20180412T045959Z
CLASS:PUBLIC
PRIORITY:5
DTSTAMP:20260421T183333Z
TRANSP:OPAQUE
SEQUENCE:0
LOCATION:Inverness, Scotland
X-ALT-DESC;FMTTYPE=text/html:<div>--- This iCal file does *NOT* confirm re
 gistration.Event details subject to change. ---</div><h1>Event Title: ISCW
 SA Meeting 47</h1><div>https://www.iscwsa.net/events/48/</div><br /><div>W
 hen: Apr 11, 2018 00:00 AM US/Central</div><br /><div><h3>Minutes</h3> <p>
 <a title="ISC Minutes 47" href="/files/162/">Meeting Minutes</a></p> <p><a
  href="/media/files/files/f3fbbc11/lightfoot-47th-iscwsa-spe-wpts-mtg-2018
 -april.pdf">Meeting Agenda</a>&nbsp\;</p> <p>&nbsp\;</p> <h3>Presentations
 </h3> <ol> <li><a href="/media/files/files/e9164250/20180411-iscwsa-emag2.
 pdf">Earth Magnetic Anomaly Grid (EMAG2- v3) Public Map API Announcement</
 a></li> <li><a href="/media/files/files/f8b8038d/gross-error-detection-for
 -typical-gyromwd-runs.pdf">Gross Error Detection for Typical gyroMWD Opera
 tions</a></li> <li><a href="/media/files/files/dc0d67fa/martin-rayson-iscw
 sa-110418-inverness.pdf">Hollistic Approach to Survey Error Budgets</a></l
 i> <li><a href="/media/files/files/b967f55d/iscwsa-spe-wpts-willerth-surve
 yqc.pdf">Survey QC, Decision Making and a Modest Proposal for Error Models
 </a></li> <li><a href="/media/files/files/27d656cf/tf-eff-vc-uncertainty-2
 018-april.pdf">Tool Face Efficiency, Virtual Surveys, and Positional Uncer
 tainty - an Introductory Discussion</a></li> <li><a href="/media/files/fil
 es/1379c53e/iscwsa-spe-huan-final-small.pdf">Continuous Wellbore Path Esti
 mation Using Multiple Integrated MEMS Sensors</a></li> <li><a href="/media
 /files/files/8282b3c3/180410-iscwsa-inverness-harald-bolt.pdf">What Depth 
 ? More accurate Driller&rsquo\;s Depth DwpD Field Results</a></li> <li><a 
 href="/media/files/files/9f2eb5ed/iscwsa-spring-2018-inverness-meeting-rog
 er-ekseth.pdf">Keynote Presentation: A New World of Surveying</a></li> </o
 l> <h3>Reports</h3> <ol> <li><a href="/media/files/files/056d9a4d/iscwsa-4
 7-phil-webmaster-update-qaqc-reboot-proposal-2018-april.pdf">Survey QAQC a
 nd Webmaster Report</a></li> <li><a href="/media/files/files/39a544b8/trea
 surers-report-iscwsa-47-inverness-2018-april.pdf">Treasurers Report</a></l
 i> <li><a href="/media/files/files/85c5c0bf/iscwsa-47-inverness-error-mode
 l-committee-update.pdf">Error-Model Subcommittee Report</a></li> <li><a hr
 ef="/media/files/files/d22ce8cb/pete-clark-iscwsa-spe-wpts-2018-april-owsg
 .pdf">OWSG Subcommittee Report</a></li> <li><a href="/media/files/files/91
 1d6f2b/carol-mann-iscwsa-spe-wpts-47-ed-com-2018-april.pdf">Education Subc
 ommittee Report</a></li> <li><a href="/media/files/files/6d98c6f9/iscwsa-w
 isc-april-1018.pdf">Well Intercept SubCommittee Report</a></li> <li><a hre
 f="/media/files/files/293f3001/collision-avoidance-status-report.pdf">Coll
 ision-Avoidance SubCommittee Report</a></li> </ol> <p>&nbsp\;</p></div><di
 v>--- This iCal file does *NOT* confirm registration.Event details subject
  to change. ---</div><div>--- Tendenci&reg\; Software by <a href="https://
 www.tendenci.com">tendenci.com</a> - The Open Source AMS for Associations 
 ---</div>
BEGIN:VALARM
TRIGGER:-PT30M
ACTION:DISPLAY
DESCRIPTION:Reminder
END:VALARM
END:VEVENT
END:VCALENDAR
