BEGIN:VCALENDAR
VERSION:2.0
METHOD:PUBLISH
PRODID:-//Tendenci - The Open Source AMS for Associations//Tendenci Codeba
 se MIMEDIR//EN
BEGIN:VEVENT
DESCRIPTION:--- This iCal file does *NOT* confirm registration.\nEvent det
 ails subject to change. ---\nhttps://www.iscwsa.net/events/47/\n\nEvent Ti
 tle: ISCWSA Meeting 46\nStart Date / Time: Oct 12, 2017 00:00 AM US/Centra
 l\nLocation: San Antonio, Texas, USA\nMinutes\nMeeting Minutes\nProgram Ag
 enda\n \nPresentations\n\nDatabase &amp\; Survey Enhancement Applications:
  Optimizing Project Development Through Data Integrity and Real-time Corre
 ctions\nRecent Advances in Crustal and Disturbance Field Modeling\nA Publi
 c Web API to Provide Dynamic Quality Control for the ISCWSA Error Models\n
 \n \nReports\n\nWebmaster Report\nTreasurers Report\nError-Model Subcommit
 tee Report\nOWSG Subcommittee Report\nEducation Subcommittee Report\nWell 
 Intercept Subcommittee Report\n\n \n\n--- This iCal file does *NOT* confir
 m registration.Event details subject to change. ---\n\n--- By Tendenci - T
 he Open Source AMS for Associations ---\n
UID:uid47@iscwsa.net
SUMMARY:ISCWSA Meeting 46
DTSTART:20171012T050000Z
DTEND:20171013T045959Z
CLASS:PUBLIC
PRIORITY:5
DTSTAMP:20260425T125552Z
TRANSP:OPAQUE
SEQUENCE:0
LOCATION:San Antonio, Texas, USA
X-ALT-DESC;FMTTYPE=text/html:<div>--- This iCal file does *NOT* confirm re
 gistration.Event details subject to change. ---</div><h1>Event Title: ISCW
 SA Meeting 46</h1><div>https://www.iscwsa.net/events/47/</div><br /><div>W
 hen: Oct 12, 2017 00:00 AM US/Central</div><br /><div><h3>Minutes</h3> <p>
 <a title="ISC Meeting Minutes 46" href="/files/163/">Meeting Minutes</a></
 p> <p><a href="/media/files/files/288a1507/1-lightfoot-j-iscwsa-spe-wpts-2
 017-october.pptx">Program Agenda</a></p> <p>&nbsp\;</p> <h3>Presentations<
 /h3> <ol> <li><a href="/media/files/files/ea157eae/9-iscwsa-presentation-l
 ee-pendegraft.pdf">Database &amp\; Survey Enhancement Applications: Optimi
 zing Project Development Through Data Integrity and Real-time Corrections<
 /a></li> <li><a href="/media/files/files/14e1f5ae/8-iscwsa-spe-wpts-chulli
 at.pdf">Recent Advances in Crustal and Disturbance Field Modeling</a></li>
  <li><a href="/media/files/files/1cde6008/maus-magvar-dynamic-qc-web-calcu
 lator.pdf">A Public Web API to Provide Dynamic Quality Control for the ISC
 WSA Error Models</a></li> </ol> <p>&nbsp\;</p> <h3>Reports</h3> <ol> <li><
 a href="/media/files/files/f6093d23/iscwsa46-webmaster-report-updated.pdf"
 >Webmaster Report</a></li> <li><a href="/media/files/files/61523c1c/17-isc
 wsa-treasurers-report-oct-2017.pdf">Treasurers Report</a></li> <li><a href
 ="/media/files/files/89f45e9b/13-error-model-committee-update-iscwsa-46-sa
 nantonio.pdf">Error-Model Subcommittee Report</a></li> <li><a href="/media
 /files/files/9b332f96/12-iscwsa46-owsg-report-clark.pdf">OWSG Subcommittee
  Report</a></li> <li><a href="/media/files/files/dd678382/10-iscwsa-spe-wp
 ts-education-subcommittee-report-2017-october.pdf">Education Subcommittee 
 Report</a></li> <li><a href="/media/files/files/9c6606b0/6-goobie-r-iscwsa
 -wisc-agenda-10-10-17.pdf">Well Intercept Subcommittee Report</a></li> </o
 l> <p>&nbsp\;</p></div><div>--- This iCal file does *NOT* confirm registra
 tion.Event details subject to change. ---</div><div>--- Tendenci&reg\; Sof
 tware by <a href="https://www.tendenci.com">tendenci.com</a> - The Open So
 urce AMS for Associations ---</div>
BEGIN:VALARM
TRIGGER:-PT30M
ACTION:DISPLAY
DESCRIPTION:Reminder
END:VALARM
END:VEVENT
END:VCALENDAR
