BEGIN:VCALENDAR
VERSION:2.0
METHOD:PUBLISH
PRODID:-//Tendenci - The Open Source AMS for Associations//Tendenci Codeba
 se MIMEDIR//EN
BEGIN:VEVENT
DESCRIPTION:--- This iCal file does *NOT* confirm registration.\nEvent det
 ails subject to change. ---\nhttps://www.iscwsa.net/events/117/\n\nEvent T
 itle: ISCWSA #62 General Meeting Anchorage, Alaska\nStart Date / Time: Sep
  25, 2025 08:00 AM America/Anchorage\nLocation: Hilcorp\nGoogle\nhttp://ma
 ps.google.com/maps?q=3800+Centerpoint+Drive,+#1400,Anchorage,Alaska,99503\
 n\nForecast\nhttp://www.weather.com/weather/monthly/99503\n\nThe 62nd Gene
 ral Meeting of the ISCWSA is now in the history books, following a very su
 ccessful gathering in Anchorage, generously hosted by Hilcorp, with a Netw
 orking Reception extremely well organised and sponsored by Scientific Dril
 ling.\nThanks to our sponsors, and all those particpating.\n \nCheck the M
 eetings/Meetings Minutes tab for the agenda and presentations, when they a
 re released.\n\n\n\nISCWSA 62nd General Meeting - Anchorage\n\n\nThursday 
 25th September \n\n\nHilcorp Offices, 3800 Centerpoint Drive, #1400 Anchor
 age, Alaska 99503\n\n\nActivity\nPresenter(s)\nTitle / Sponsor\nFrom \nTo\
 n\n\nCoffee &amp\; Registration\n \nThursday morning registration\n7:45\n8
 :30\n\n\nIntroduction\nAdrian Ledroz (SLB) Emeritus Chairperson\nIntroduct
 ion\n8:30\n8:35\n\n\nProgram Agenda\nAndy McGregor (H&amp\;P ) Program Cha
 ir\nSchedule and Program Overview\n8:35\n8:40\n\n\nTechnical Presentation\
 nAdrian Ledroz (SLB)\nHigh-definition Wellbore Trajectory &ndash\; Drillin
 g,Completion and Production Considerations\n8:40\n9:10\n\n\nSub-Committee 
 Update\nPhil Harbidge (Halliburton)\nQA\QC Sub-Committee Report + Webmaste
 r Update\n9:10\n9:30\n\n\nTechnical Presentation\nNicholas Zachman (SLB)\n
 15 Years of the Deadhorse Geomagnetic Observatory \n9:30\n10:00\n\n\nCoffe
 e Break\n \nCoffee Break\n10:00\n10:25\n\n\nTechnical Presentation\nEric M
 archand (Torquis)\nCreating ECEF‑Based Wellbore Digital Twins: Resolving
  CRS Fragmentation for Accurate, 3D, AI‑Ready Positioning\n10:25\n10:55\
 n\n\nSub-Committee Update\nMahmoud ElGizawy (SLB)\nEducation Sub-Committee
  Report\n10:55\n11:10\n\n\nTechnical Presentation\nKevin Sutherland (Chevr
 on)\nStandardized Integration of Multi-Vendor Surveys for Centralized Anti
  Collision Database\n11:10\n11:40\n\n\nAdministration Report\nDavid Gibson
  (Gibson Reports)\nMembership Update\n11:40\n11:50\n\n\nTechnical Presenta
 tion\nAustin Pile (Scientific Drilling)\nField Performance of Large CVG Gy
 roMWD Tools in Alaska&rsquo\;s Arctic Drilling Conditions \n11:50\n12:20\n
 \n\nSub-Committee Update\nJonathan Lightfoot (Occidental)\nOWSG + RP-78 Re
 port\n12:20\n12:35\n\n\nLunch\n \nLunch\n12:35\n13:35\n\n\nTechnical Prese
 ntation\nRustam Rakhmangulov (SLB)\nOpen Hole Well Interception and Re-ent
 ry Application of Inaccessible Wellbore Utilizing Active Acoustic Ranging\
 n13:35\n14:05\n\n\nSub-Committee Update\nDarren Aklestad (SLB)\nCollision 
 Avoidance Sub-committee Report\n14:05\n14:20\n\n\nTechnical Presentation\n
 Chad Anton (ExxonMobil) and Clinton Moss (Gunnar)\nField Results of Access
 -Independent Active Magnetic Ranging While Drilling Using Powered Drill Pi
 pe in High Formation Resistivity and Oil-Based Mud Environments \n14:20\n1
 4:50\n\n\nSub-Committee Update\nMarc Willerth (H&amp\;P)\nError Model Sub-
 Committee Report\n14:50\n15:10\n\n\nAdministration\nCarol Mann (Dynamic Gr
 aphics)\nElection Results\n15:10\n15:20\n\n\nCoffee Break\n \nCoffee Break
 \n15:20\n15:45\n\n\nTechnical Presentation\nRajib Roy (ONGC)\nOptimized We
 ll Completion Strategies for Horizontal Air Injection Wells in Western Ind
 ian Field Focused on Wellbore Positioning\n15:45\n16:15\n\n\nSub-Committee
  Update\nBenny Poedjono (Independent)\nWell Intercept Sub-Committee Report
 \n16:15\n16:30\n\n\nAdministration Report\nRobert Wylie (xnDrilling)\nTrea
 surer's Report\n16:30\n16:40\n\n\nTechnical Presentation\nXiong Li (Xcalib
 ur)\nReal-time CARISMA Data for Estimation of the Disturbance Magnetic Fie
 ld in the Western Canada Sedimentary Basin \n16:40\n17:10\n\n\nCloseout\nA
 ndy McGregor (H&amp\;P )\n\n\n\n\nCloseout\n\n\n\n\n17:10\n17:15\n\n\n\n \
 n \n \n\n--- This iCal file does *NOT* confirm registration.Event details 
 subject to change. ---\n\n--- By Tendenci - The Open Source AMS for Associ
 ations ---\n
UID:uid117@iscwsa.net
SUMMARY:ISCWSA #62 General Meeting Anchorage, Alaska
DTSTART:20250925T160000Z
DTEND:20250926T010000Z
CLASS:PUBLIC
PRIORITY:5
DTSTAMP:20260425T140852Z
TRANSP:OPAQUE
SEQUENCE:0
LOCATION:Hilcorp
X-ALT-DESC;FMTTYPE=text/html:<div>--- This iCal file does *NOT* confirm re
 gistration.Event details subject to change. ---</div><h1>Event Title: ISCW
 SA #62 General Meeting Anchorage, Alaska</h1><div>https://www.iscwsa.net/e
 vents/117/</div><br /><div>When: Sep 25, 2025 08:00 AM America/Anchorage</
 div><br />Hilcorp<br />3800 Centerpoint Drive, #1400<br />Anchorage, Alask
 a 99503<br /><div>http://maps.google.com/maps?q=3800+Centerpoint+Drive,+#1
 400,Anchorage,Alaska,99503</div><br /><div>Forecast: http://www.weather.co
 m/weather/monthly/99503</div><br /><br /><div><p>The 62nd General Meeting 
 of the ISCWSA is now in the history books, following a very successful gat
 hering in Anchorage, generously hosted by Hilcorp, with a Networking Recep
 tion extremely well organised and sponsored by Scientific Drilling.</p> <p
 >Thanks to our sponsors, and all those particpating.</p> <p>&nbsp\;</p> <p
 >Check the Meetings/Meetings Minutes tab for the agenda and presentations,
  when they are released.</p> <table width="1145"> <tbody> <tr> <td colspan
 ="5" width="1145">ISCWSA 62nd General Meeting - Anchorage</td> </tr> <tr> 
 <td colspan="5" width="1145">Thursday 25th September&nbsp\;</td> </tr> <tr
 > <td colspan="5" width="1145">Hilcorp Offices, 3800 Centerpoint Drive, #1
 400 Anchorage, Alaska 99503</td> </tr> <tr> <td>Activity</td> <td width="2
 71">Presenter(s)</td> <td width="474">Title / Sponsor</td> <td width="82">
 From&nbsp\;</td> <td width="89">To</td> </tr> <tr> <td>Coffee &amp\; Regis
 tration</td> <td width="271">&nbsp\;</td> <td width="474">Thursday morning
  registration</td> <td width="82">7:45</td> <td width="89">8:30</td> </tr>
  <tr> <td>Introduction</td> <td width="271">Adrian Ledroz (SLB) Emeritus C
 hairperson</td> <td width="474">Introduction</td> <td width="82">8:30</td>
  <td width="89">8:35</td> </tr> <tr> <td>Program Agenda</td> <td width="27
 1">Andy McGregor (H&amp\;P ) Program Chair</td> <td width="474">Schedule a
 nd Program Overview</td> <td width="82">8:35</td> <td width="89">8:40</td>
  </tr> <tr> <td>Technical Presentation</td> <td width="271">Adrian Ledroz 
 (SLB)</td> <td width="474"><a title="High-definition Wellbore Trajectory &
 ndash\; Drilling,Completion and Production Considerations" href="/files/10
 01/">High-definition Wellbore Trajectory &ndash\; Drilling,Completion and 
 Production Considerations</a></td> <td width="82">8:40</td> <td width="89"
 >9:10</td> </tr> <tr> <td>Sub-Committee Update</td> <td width="271"><a tit
 le="ISC62 Survey QC Webmaster Updates" href="/files/1016/">Phil Harbidge (
 Halliburton)</a></td> <td width="474"><a title="ISC62 Survey QC Webmaster 
 Updates" href="/files/1016/">QA\QC Sub-Committee Report + Webmaster Update
 </a></td> <td width="82">9:10</td> <td width="89">9:30</td> </tr> <tr> <td
 >Technical Presentation</td> <td width="271">Nicholas Zachman (SLB)</td> <
 td width="474"><a title="15 Years of the Deadhorse Geomagnetic Observatory
 &nbsp\;" href="/files/1002/">15 Years of the Deadhorse Geomagnetic Observa
 tory&nbsp\;</a></td> <td width="82">9:30</td> <td width="89">10:00</td> </
 tr> <tr> <td>Coffee Break</td> <td width="271">&nbsp\;</td> <td width="474
 ">Coffee Break</td> <td width="82">10:00</td> <td width="89">10:25</td> </
 tr> <tr> <td>Technical Presentation</td> <td width="271">Eric Marchand (To
 rquis)</td> <td width="474"><a title="Creating ECEF‑Based Wellbore Digit
 al Twins: Resolving CRS Fragmentation for Accurate, 3D, AI‑Ready Positio
 ning" href="/files/1003/">Creating ECEF‑Based Wellbore Digital Twins: Re
 solving CRS Fragmentation for Accurate, 3D, AI‑Ready Positioning</a></td
 > <td width="82">10:25</td> <td width="89">10:55</td> </tr> <tr> <td>Sub-C
 ommittee Update</td> <td width="271">Mahmoud ElGizawy (SLB)</td> <td width
 ="474"><a title="Education Sub-Committee Report" href="/files/1004/">Educa
 tion Sub-Committee Report</a></td> <td width="82">10:55</td> <td width="89
 ">11:10</td> </tr> <tr> <td>Technical Presentation</td> <td width="271">Ke
 vin Sutherland (Chevron)</td> <td width="474"><a title="Standardized Integ
 ration of Multi-Vendor Surveys for Centralized Anti Collision Database" hr
 ef="/files/1005/">Standardized Integration of Multi-Vendor Surveys for Cen
 tralized Anti Collision Database</a></td> <td width="82">11:10</td> <td wi
 dth="89">11:40</td> </tr> <tr> <td>Administration Report</td> <td width="2
 71">David Gibson (Gibson Reports)</td> <td width="474">Membership Update</
 td> <td width="82">11:40</td> <td width="89">11:50</td> </tr> <tr> <td>Tec
 hnical Presentation</td> <td width="271">Austin Pile (Scientific Drilling)
 </td> <td width="474"><a title="Field Performance of Large CVG GyroMWD Too
 ls in Alaska&rsquo\;s Arctic Drilling Conditions&nbsp\;" href="/files/1006
 /">Field Performance of Large CVG GyroMWD Tools in Alaska&rsquo\;s Arctic 
 Drilling Conditions&nbsp\;</a></td> <td width="82">11:50</td> <td width="8
 9">12:20</td> </tr> <tr> <td>Sub-Committee Update</td> <td width="271">Jon
 athan Lightfoot (Occidental)</td> <td width="474"><a title="OWSG + RP-78 R
 eport" href="/files/1007/">OWSG + RP-78 Report</a></td> <td width="82">12:
 20</td> <td width="89">12:35</td> </tr> <tr> <td>Lunch</td> <td width="271
 ">&nbsp\;</td> <td width="474">Lunch</td> <td width="82">12:35</td> <td wi
 dth="89">13:35</td> </tr> <tr> <td>Technical Presentation</td> <td>Rustam 
 Rakhmangulov (SLB)</td> <td width="474"><a title="Open Hole Well Intercept
 ion and Re-entry Application of Inaccessible Wellbore Utilizing Active Aco
 ustic Ranging" href="/files/1008/">Open Hole Well Interception and Re-entr
 y Application of Inaccessible Wellbore Utilizing Active Acoustic Ranging</
 a></td> <td width="82">13:35</td> <td width="89">14:05</td> </tr> <tr> <td
 >Sub-Committee Update</td> <td width="271">Darren Aklestad (SLB)</td> <td 
 width="474"><a title="Collision Avoidance Sub-committee Report" href="/fil
 es/1009/">Collision Avoidance Sub-committee Report</a></td> <td width="82"
 >14:05</td> <td width="89">14:20</td> </tr> <tr> <td>Technical Presentatio
 n</td> <td width="271">Chad Anton (ExxonMobil) and Clinton Moss (Gunnar)</
 td> <td width="474"><a title="Active Magnetic Ranging While Drilling Using
  Powered Drill Pipe" href="/files/1010/">Field Results of Access-Independe
 nt Active Magnetic Ranging While Drilling Using Powered Drill Pipe in High
  Formation Resistivity and Oil-Based Mud Environments</a>&nbsp\;</td> <td 
 width="82">14:20</td> <td width="89">14:50</td> </tr> <tr> <td>Sub-Committ
 ee Update</td> <td width="271">Marc Willerth (H&amp\;P)</td> <td width="47
 4"><a title="Error Model Sub-Committee Report" href="/files/1011/">Error M
 odel Sub-Committee Report</a></td> <td width="82">14:50</td> <td width="89
 ">15:10</td> </tr> <tr> <td>Administration</td> <td width="271">Carol Mann
  (Dynamic Graphics)</td> <td width="474"><a title="Election Results" href=
 "/files/1012/">Election Results</a></td> <td width="82">15:10</td> <td wid
 th="89">15:20</td> </tr> <tr> <td>Coffee Break</td> <td width="271">&nbsp\
 ;</td> <td width="474">Coffee Break</td> <td width="82">15:20</td> <td wid
 th="89">15:45</td> </tr> <tr> <td>Technical Presentation</td> <td width="2
 71">Rajib Roy (ONGC)</td> <td width="474">Optimized Well Completion Strate
 gies for Horizontal Air Injection Wells in Western Indian Field Focused on
  Wellbore Positioning</td> <td width="82">15:45</td> <td width="89">16:15<
 /td> </tr> <tr> <td>Sub-Committee Update</td> <td width="271">Benny Poedjo
 no (Independent)</td> <td width="474"><a title="Well Intercept Sub-Committ
 ee Report" href="/files/1013/">Well Intercept Sub-Committee Report</a></td
 > <td width="82">16:15</td> <td width="89">16:30</td> </tr> <tr> <td>Admin
 istration Report</td> <td width="271">Robert Wylie (xnDrilling)</td> <td w
 idth="474"><a title="Treasurer's Report" href="/files/1014/">Treasurer's R
 eport</a></td> <td width="82">16:30</td> <td width="89">16:40</td> </tr> <
 tr> <td>Technical Presentation</td> <td width="271">Xiong Li (Xcalibur)</t
 d> <td width="474"><a title="Real-time CARISMA Data for Estimation of the 
 Disturbance Magnetic Field " href="/files/1015/">Real-time CARISMA Data fo
 r Estimation of the Disturbance Magnetic Field </a>in the Western Canada S
 edimentary Basin&nbsp\;</td> <td width="82">16:40</td> <td width="89">17:1
 0</td> </tr> <tr> <td>Closeout</td> <td width="271">Andy McGregor (H&amp\;
 P )</td> <td width="474"> <table> <tbody> <tr> <td width="474">Closeout</t
 d> </tr> </tbody> </table> </td> <td width="82">17:10</td> <td width="89">
 17:15</td> </tr> </tbody> </table> <p>&nbsp\;</p> <p>&nbsp\;</p> <p>&nbsp\
 ;</p></div><div>--- This iCal file does *NOT* confirm registration.Event d
 etails subject to change. ---</div><div>--- Tendenci&reg\; Software by <a 
 href="https://www.tendenci.com">tendenci.com</a> - The Open Source AMS for
  Associations ---</div>
BEGIN:VALARM
TRIGGER:-PT30M
ACTION:DISPLAY
DESCRIPTION:Reminder
END:VALARM
END:VEVENT
END:VCALENDAR
