BEGIN:VCALENDAR
VERSION:2.0
METHOD:PUBLISH
PRODID:-//Tendenci - The Open Source AMS for Associations//Tendenci Codeba
 se MIMEDIR//EN
BEGIN:VEVENT
DESCRIPTION:--- This iCal file does *NOT* confirm registration.\nEvent det
 ails subject to change. ---\nhttps://www.iscwsa.net/events/116/\n\nEvent T
 itle: ISCWSA #61 - Stavanger, Norway\nStart Date / Time: Mar 06, 2025 08:3
 0 AM Europe/Oslo\nLocation: Norway Equinor Business Center\nSpeaker: Preli
 minary Agenda\nGoogle\nhttp://maps.google.com/maps?q=Equinor+Business+Cent
 er,+Forusbeen+50,+Forus+East,+Business+Centre+Reception,+4033+Stavanger,St
 avanger,4033\n\nForecast\nhttp://www.weather.com/weather/monthly/4033\n\nT
 he 61st General Meeting of the ISCWSA was held in conjunction with the SPE
 /IADC Drilling Conference in March 2025, in Stavanger, Norway, and was gra
 ciously hosted by Equinor at the Equinor Business Center in Forus Rogaland
 , Norway.\nSubcommittee meetings were held on Thursday March 6th, the\nGen
 eral Meeting was held on Friday March 7th 2025\nISCWSA61 Minutes of Meetin
 g\n\n\n\nFriday 7th March 61th Meeting, Stavanger\n\n\nEquinor Business Ce
 ntre, Forusbeen 50, 4035 Stavanger (Forus &Oslash\;st, Entrance 6)\n\n\nAc
 tivity\nPresenter(s)\nTitle / Sponsor\nFrom \nTo\n\n\nCoffee &amp\; Regist
 ration\n \nFriday morning registration\n7:30\n8:15\n\n\nIntroduction\nHans
  Dreisig (Total Energies) ISCWSA Chair\nIntroduction\n8:15\n8:20\n\n\n \nH
 SE Briefing\n \n8:20\n8:25\n\n\nProgram Agenda\nAndy McGregor (H&amp\;P ) 
 ISCWSA Program Chair\nSchedule and Program Overview\n8:25\n8:30\n\n\nTechn
 ical Presentation\nDavid Erdos (Erdos Miller)\nRedefining Well Intercepts:
  First Field Deployments of a Next Generation Active Magnetic Ranging Whil
 e Drilling System\n8:30\n8:55\n\n\nSub-Committee Update\nPhil Harbidge (Ha
 lliburton)\nQA\QC Sub-Committee Report + Webmaster Report\n8:55\n9:15\n\n\
 nTechnical Presentation\nMakito Katayama (SLB)\nDownhole automatic calibra
 tion of rotary steerable system for real-time precision surveying \n9:15\n
 9:40\n\n\nSub-Committee Update\nMahmoud ElGizawy (SLB)\nEducation Sub-Comm
 ittee Report\n9:40\n9:55\n\n\nCoffee Break\n \nCoffee Break\n9:55\n10:25\n
 \n\nTechnical Presentation\nMarianne Houbiers (Equinor)\nPitfall in survey
  QA/QC \n10:25\n10:50\n\n\nTechnical Presentation\nAarlid Sassen (UIS)\nCl
 eaning Drilling Fluids for Magnetic Debris and its Consequence for Surveyi
 ng\n10:50\n11:15\n\n\nSub-Committee Update\nMohamed Elshabrawy (Shell)\nOW
 SG Sub-Committee Report\n11:15\n11:30\n\n\nTechnical Presentation\nGuanren
  Wang (BGS)\nAn overview of the largest geomagnetic storm in 20 years on 1
 0th May 2024 \n11:30\n11:55\n\n\nTechnical Presentation\nTyler Milford (Ha
 liburton)\nWell Intercept for CCUS Well Applications\n11:55\n12:20\n\n\nLu
 nch\n \nLunch\n12:30\n13:30\n\n\nPanel Discussion\nAngus Jamieson (H&amp\;
 P)\nWellbore Survey Quiz\n13:30\n13:55\n\n\nSub-Committee Update\nMarc Wil
 lerth (H&amp\;P)\nError Model Sub-Committee Report\n13:55\n14:10\n\n\nTech
 nical Presentation\nBrett Van Steenwyk (Algorithms and Analytical Thinking
 )\nAnti-Collision via Passive Ranging \n14:10\n14:35\n\n\nSub-Committee Up
 date\nDarren Aklestad (SLB)\nCollision Avoidance Sub-committee Report\n14:
 35\n14:50\n\n\nCoffee Break\n \nCoffee Break\n14:50\n15:20\n\n\nTechnical 
 Presentation\nMarc Willerth (H&amp\;P)\nEstimating Likelihood of Direction
 al Drilling Success Through a Practical Application of Projection Uncertai
 nty Models\n15:20\n15:45\n\n\nSub-Committee Update\nBenny Poedjono (Indepe
 ndent)\nWell Intercept Sub-Committee Report\n15:45\n16:00\n\n\nAdministrat
 ion Report\nRobert Wylie (xnDrilling)\nTreasurer's Report\n16:00\n16:10\n\
 n\nTechnical Presentation\nMatt Edge (Geomatic Solutions)\nUnpacking coord
 inate reference systems: controlling CRS usage in wellbore data exchange \
 n16:10\n16:35\n\n\nCloseout\nHans Dreisig (Total Energies)\n\n\n\n\nCloseo
 ut\n\n\n\n\n16:35\n16:40\n\n\n\n\n--- This iCal file does *NOT* confirm re
 gistration.Event details subject to change. ---\n\n--- By Tendenci - The O
 pen Source AMS for Associations ---\n
UID:uid116@iscwsa.net
SUMMARY:ISCWSA #61 - Stavanger, Norway
DTSTART:20250306T073000Z
DTEND:20250307T160000Z
CLASS:PUBLIC
PRIORITY:5
DTSTAMP:20260425T040944Z
TRANSP:OPAQUE
SEQUENCE:0
LOCATION:Norway Equinor Business Center
X-ALT-DESC;FMTTYPE=text/html:<div>--- This iCal file does *NOT* confirm re
 gistration.Event details subject to change. ---</div><h1>Event Title: ISCW
 SA #61 - Stavanger, Norway</h1><div>https://www.iscwsa.net/events/116/</di
 v><br /><div>When: Mar 06, 2025 08:30 AM Europe/Oslo</div><div>Speaker: Pr
 eliminary Agenda</div><br />Norway Equinor Business Center<br />Equinor Bu
 siness Center, Forusbeen 50, Forus East, Business Centre Reception, 4033 S
 tavanger<br /> 4033<br /><div>http://maps.google.com/maps?q=Equinor+Busine
 ss+Center,+Forusbeen+50,+Forus+East,+Business+Centre+Reception,+4033+Stava
 nger,Stavanger,4033</div><br /><div>Forecast: http://www.weather.com/weath
 er/monthly/4033</div><br /><br /><div><p>The 61st General Meeting of the I
 SCWSA was held in conjunction with the SPE/IADC Drilling Conference in Mar
 ch 2025, in Stavanger, Norway, and was graciously hosted by <strong>Equino
 r</strong> at the Equinor Business Center in Forus Rogaland, Norway.</p> <
 p>Subcommittee meetings were held on Thursday March 6th, the</p> <p><stron
 g>General Meeting was held on Friday March 7th 2025</strong></p> <p><a tit
 le="ISCWSA61 Minutes of Meeting" href="/files/999/">ISCWSA61 Minutes of Me
 eting</a></p> <table width="1145"> <tbody> <tr> <td colspan="5" width="114
 5">Friday 7<sup>th</sup> March 61th Meeting, Stavanger</td> </tr> <tr> <td
  colspan="5" width="1145">Equinor Business Centre, Forusbeen 50, 4035 Stav
 anger (Forus &Oslash\;st, Entrance 6)</td> </tr> <tr> <td>Activity</td> <t
 d width="271">Presenter(s)</td> <td width="474">Title / Sponsor</td> <td w
 idth="82">From&nbsp\;</td> <td width="89">To</td> </tr> <tr> <td>Coffee &a
 mp\; Registration</td> <td width="271">&nbsp\;</td> <td width="474">Friday
  morning registration</td> <td width="82">7:30</td> <td width="89">8:15</t
 d> </tr> <tr> <td>Introduction</td> <td width="271">Hans Dreisig (Total En
 ergies) ISCWSA Chair</td> <td width="474">Introduction</td> <td width="82"
 >8:15</td> <td width="89">8:20</td> </tr> <tr> <td>&nbsp\;</td> <td width=
 "271">HSE Briefing</td> <td width="474">&nbsp\;</td> <td width="82">8:20</
 td> <td width="89">8:25</td> </tr> <tr> <td>Program Agenda</td> <td width=
 "271">Andy McGregor (H&amp\;P ) ISCWSA Program Chair</td> <td width="474">
 <a title="ISC61 Meeting Program" href="/files/980/">Schedule and Program O
 verview</a></td> <td width="82">8:25</td> <td width="89">8:30</td> </tr> <
 tr> <td>Technical Presentation</td> <td width="271">David Erdos (Erdos Mil
 ler)</td> <td width="474"><a title="Redefining Well Intercepts" href="/fil
 es/981/">Redefining Well Intercepts: First Field Deployments of a Next Gen
 eration Active Magnetic Ranging While Drilling System</a></td> <td width="
 82">8:30</td> <td width="89">8:55</td> </tr> <tr> <td>Sub-Committee Update
 </td> <td width="271">Phil Harbidge (Halliburton)</td> <td width="474"><a 
 title="QAQC SC Update ISC61" href="/files/982/">QA\QC Sub-Committee Report
  + Webmaster Report</a></td> <td width="82">8:55</td> <td width="89">9:15<
 /td> </tr> <tr> <td>Technical Presentation</td> <td width="271">Makito Kat
 ayama (SLB)</td> <td width="474"><a title="3.ISCWSA-61st Presentation_MKat
 ayama" href="/files/983/">Downhole automatic calibration of rotary steerab
 le system for real-time precision surveying&nbsp\;</a></td> <td width="82"
 >9:15</td> <td width="89">9:40</td> </tr> <tr> <td>Sub-Committee Update</t
 d> <td width="271">Mahmoud ElGizawy (SLB)</td> <td width="474"><a title="I
 SC61 EDU SC" href="/files/984/">Education Sub-Committee Report</a></td> <t
 d width="82">9:40</td> <td width="89">9:55</td> </tr> <tr> <td>Coffee Brea
 k</td> <td width="271">&nbsp\;</td> <td width="474">Coffee Break</td> <td 
 width="82">9:55</td> <td width="89">10:25</td> </tr> <tr> <td>Technical Pr
 esentation</td> <td width="271">Marianne Houbiers (Equinor)</td> <td width
 ="474"><a title="PitFall in Directional Survey QAQC " href="/files/985/">P
 itfall in survey QA/QC&nbsp\;</a></td> <td width="82">10:25</td> <td width
 ="89">10:50</td> </tr> <tr> <td>Technical Presentation</td> <td width="271
 ">Aarlid Sassen (UIS)</td> <td width="474"><a title="Cleaning drilling flu
 ids" href="/files/986/">Cleaning Drilling Fluids for Magnetic Debris and i
 ts Consequence for Surveying</a></td> <td width="82">10:50</td> <td width=
 "89">11:15</td> </tr> <tr> <td>Sub-Committee Update</td> <td width="271">M
 ohamed Elshabrawy (Shell)</td> <td width="474"><a title="OWSG Update" href
 ="/files/987/">OWSG Sub-Committee Report</a></td> <td width="82">11:15</td
 > <td width="89">11:30</td> </tr> <tr> <td>Technical Presentation</td> <td
  width="271">Guanren Wang (BGS)</td> <td width="474"><a title="An overview
  of the largest geomagnetic storm in 20 years on 10th May 2024&nbsp\;" hre
 f="/files/988/">An overview of the largest geomagnetic storm in 20 years o
 n 10th May 2024&nbsp\;</a></td> <td width="82">11:30</td> <td width="89">1
 1:55</td> </tr> <tr> <td>Technical Presentation</td> <td width="271">Tyler
  Milford (Haliburton)</td> <td width="474"><a title="Well Intercept for CC
 US Well Applications	" href="/files/989/">Well Intercept for CCUS Well App
 lications</a></td> <td width="82">11:55</td> <td width="89">12:20</td> </t
 r> <tr> <td>Lunch</td> <td width="271">&nbsp\;</td> <td width="474">Lunch<
 /td> <td width="82">12:30</td> <td width="89">13:30</td> </tr> <tr> <td>Pa
 nel Discussion</td> <td width="271">Angus Jamieson (H&amp\;P)</td> <td wid
 th="474">Wellbore Survey Quiz</td> <td width="82">13:30</td> <td width="89
 ">13:55</td> </tr> <tr> <td>Sub-Committee Update</td> <td width="271">Marc
  Willerth (H&amp\;P)</td> <td width="474"><a title="Error Model Sub-Commit
 tee Report" href="/files/990/">Error Model Sub-Committee Report</a></td> <
 td width="82">13:55</td> <td width="89">14:10</td> </tr> <tr> <td>Technica
 l Presentation</td> <td width="271">Brett Van Steenwyk (Algorithms and Ana
 lytical Thinking)</td> <td width="474"><a title="Anti-Collision via Passiv
 e Ranging&nbsp\;" href="/files/991/">Anti-Collision via Passive Ranging&nb
 sp\;</a></td> <td width="82">14:10</td> <td width="89">14:35</td> </tr> <t
 r> <td>Sub-Committee Update</td> <td width="271">Darren Aklestad (SLB)</td
 > <td width="474"><a title="Collision Avoidance Sub-committee Report" href
 ="/files/992/">Collision Avoidance Sub-committee Report</a></td> <td width
 ="82">14:35</td> <td width="89">14:50</td> </tr> <tr> <td>Coffee Break</td
 > <td width="271">&nbsp\;</td> <td width="474">Coffee Break</td> <td width
 ="82">14:50</td> <td width="89">15:20</td> </tr> <tr> <td>Technical Presen
 tation</td> <td width="271">Marc Willerth (H&amp\;P)</td> <td width="474">
 <a title="Estimating Likelihood of Directional Drilling Success Through a 
 Practical Application of Projection Uncertainty Models" href="/files/993/"
 >Estimating Likelihood of Directional Drilling Success Through a Practical
  Application of Projection Uncertainty Models</a></td> <td width="82">15:2
 0</td> <td width="89">15:45</td> </tr> <tr> <td>Sub-Committee Update</td> 
 <td width="271">Benny Poedjono (Independent)</td> <td width="474"><a title
 ="Well Intercept Sub-Committee Report" href="/files/994/">Well Intercept S
 ub-Committee Report</a></td> <td width="82">15:45</td> <td width="89">16:0
 0</td> </tr> <tr> <td>Administration Report</td> <td width="271">Robert Wy
 lie (xnDrilling)</td> <td width="474">Treasurer's Report</td> <td width="8
 2">16:00</td> <td width="89">16:10</td> </tr> <tr> <td>Technical Presentat
 ion</td> <td width="271">Matt Edge (Geomatic Solutions)</td> <td width="47
 4"><a title="Unpacking coordinate reference systems: controlling CRS usage
  in wellbore data exchange&nbsp\;" href="/files/995/">Unpacking coordinate
  reference systems: controlling CRS usage in wellbore data exchange&nbsp\;
 </a></td> <td width="82">16:10</td> <td width="89">16:35</td> </tr> <tr> <
 td>Closeout</td> <td width="271">Hans Dreisig (Total Energies)</td> <td wi
 dth="474"> <table> <tbody> <tr> <td width="474">Closeout</td> </tr> </tbod
 y> </table> </td> <td width="82">16:35</td> <td width="89">16:40</td> </tr
 > </tbody> </table></div><div>--- This iCal file does *NOT* confirm regist
 ration.Event details subject to change. ---</div><div>--- Tendenci&reg\; S
 oftware by <a href="https://www.tendenci.com">tendenci.com</a> - The Open 
 Source AMS for Associations ---</div>
BEGIN:VALARM
TRIGGER:-PT30M
ACTION:DISPLAY
DESCRIPTION:Reminder
END:VALARM
END:VEVENT
END:VCALENDAR
