BEGIN:VCALENDAR
VERSION:2.0
METHOD:PUBLISH
PRODID:-//Tendenci - The Open Source AMS for Associations//Tendenci Codeba
 se MIMEDIR//EN
BEGIN:VEVENT
DESCRIPTION:--- This iCal file does *NOT* confirm registration.\nEvent det
 ails subject to change. ---\nhttps://www.iscwsa.net/events/114/\n\nEvent T
 itle: ISCWSA #60 - New Orleans, Louisiana, USA\nStart Date / Time: Sep 25,
  2024 08:00 AM US/Central\nLocation: Ernest N. Morial Convention Center\nS
 peaker: John de Wardt\nGoogle\nhttp://maps.google.com/maps?q=900+Conventio
 n+Center+Blvd.,New Orleans,LA,70130\n\nForecast\nhttp://www.weather.com/we
 ather/monthly/70130\n\nThe 60th Meeting of the ISCWSA took place in New Or
 leans on 26th September 2024, in conjunction with the SPE Annual Technical
  Conference and Exhibition.\nSee the agenda presentation links below:\nSub
 committee working group meetings were held on 25th September.\nFor access 
 to attend future Subcommittee meetings, pre-register with the appropriate 
 Subcommittee Chair.\n \n \nKeynote Speaker : John deWardt\n"Looking Back, 
 Looking Now, Looking Forward &ndash\; the path of wellbore surveying"\n \n
 In 1980, Chris Wolff and John published their landmark paper on borehole p
 osition uncertainty commonly called the &lsquo\;Wolff and de Wardt systema
 tic error model&rsquo\; (SPE 9223). Since that time John has been a boreho
 le survey accuracy advocate as chair and committee member on SPE WPTS tech
 nical workshops, in various industry presentations and as a consultant to 
 many oil companies globally.\n \nHe has authored 46 published papers and a
 rticles and led 21 industry forums, workshops and symposiums. John is a Di
 stinguished Lecturer of SPE in 1995 / 96 and 2020 / 21. He has been a memb
 er of SPE for 45 years, and remains a key contibrutor to Drilling Systems 
 Automation.\n \nJohn&rsquo\;s history and accomplishments can be found on 
 linkedin at http://www.linkedin.com/in/johndewardt\n \n \n \n \n \n \nAgen
 da - Main Meeting Thursday 26th September\n\n\n\nActivity\nPresenter(s)\nT
 itle / Sponsor\nFrom \nTo\n\n\nCoffee &amp\; Registration\n \nThursday mor
 ning registration\n7:45\n8:00\n\n\nIntroduction\nHans Dreisig (Total Energ
 ies) ISCWSA Chair\nIntroduction\n8:00\n8:05\n\n\nProgram Agenda\nAndy McGr
 egor (H&amp\;P ) ISCWSA Program Chair\nSchedule and Program Overview\n8:05
 \n8:10\n\n\nKeynote Speaker\nJohn de Wardt (deWardt and Company)\nLooking 
 Back, Looking Now, Looking Forward \n8:10\n9:10\n\n\nSub-Committee Update\
 nMahmoud ElGizawy (SLB)\nEducation Sub-Committee Report\n9:10\n9:25\n\n\nT
 echnical Presentation\nArnaud Chulliat (NOAA)\nEnhanced Models and Impleme
 ntations for Minimizing Uncertainty in External Magnetic Fields \n9:25\n9:
 55\n\n\nCoffee Break\n \nCoffee Break\n9:55\n10:15\n\n\nTechnical Presenta
 tion\nKarsten Husby (UIS)\nActive Magnetic Ranging from Bottom Hole Assemb
 ly - NOT RELEASED TO PUBLIC contact Karsten.husby@sintef.no for further in
 formation \n10:15\n10:45\n\n\nSub-Committee Update\nPhil Harbidge (Hallibu
 rton)\nQA\QC Sub-Committee Report + Webmaster Update\n10:45\n11:05\n\n\nTe
 chnical Presentation\nJonathan Lightfoot (Occidental)\nRecommended Practic
 e for Safe Well Positioning, Separation, and Surveying\n11:05\n11:35\n\n\n
 Sub-Committee Update\nMohamed Elshabrawy (Shell)\nOWSG Sub-Committee Repor
 t\n11:35\n11:50\n\n\nLunch\n \nLunch\n12:00\n13:00\n\n\nPanel Discussion\n
 Ross Lowden (SLB)\nPanel Discussion - Importance of Survey Accuracy to G&a
 mp\;G and Resevoir Modelling\n13:00\n13:45\n\n\nSub-Committee Update\nDarr
 en Aklestad (SLB) and Marc Willerth (H&amp\;P)\nCollision Avoidance &amp\;
  Error Model  Sub-committees Report\n13:45\n14:00\n\n\nTechnical Presentat
 ion\nKoen Noy (Shell)\nMWD and Gyro Survey Tool Quality Management System 
 \n14:00\n14:30\n\n\nSub-Committee Update\nMarc Willerth (H&amp\;P)\nCollis
 ion Avoidance &amp\; Error Model  Sub-committees Report\n14:30\n14:45\n\n\
 nAdministration\nHans Dreisig (Total Energies)\nElections - Member At Larg
 e\n14:45\n15:00\n\n\nCoffee Break\n \nCoffee Break\n15:00\n15:20\n\n\nTech
 nical Presentation\nJosh Albright (SuperiorQC)\nValidation of Well Placeme
 nt within the Planned Ellipse of Uncertainty Excluding Out of Spec Surveys
  \n15:20\n15:50\n\n\nSub-Committee Update\nBenny Poedjono (Independent)\nW
 ell Intercept Sub-Committee Report\n15:50\n16:05\n\n\nAdministration Repor
 t\nRobert Wylie (xnDrilling)\nTreasurer's Report\n16:05\n16:15\n\n\nTechni
 cal Presentation\nGeorgy Rassadkin (Gunnar Energy Services)\nThe Future of
  Wellbore Intercept Technology: Adhering to the Strictest Environmental an
 d Economic Standards in Complex Well Abandonments \n16:15\n16:45\n\n\nClos
 eout\nHans Dreisig (Total Energies)\n\n\n\n\nCloseout\n\n\n\n\n16:45\n16:5
 0\n\n\n\n \n \nSub-committees - Wednesday 25th September\n\n\n\n\nFor Loca
 tion,\nContact Subcommittee Chair \n\nQA\QC Sub-Committee - contact Phil H
 arbidge (Phil.Harbidge@halliburton.com)\n09:00\n12:00\n\n\nLunch - please 
 pre-register and especially if any allergies\n12:00\n13:00\n\n\nError Mode
 l &amp\; Collision Avoidance Sub-Committees Combined\n13:00\n16:30\n\n\n- 
 contact Darren Aklestad (aklestad@slb.com) or Marc Willerth (marc.willerth
 @hpinc.com)\n\n\n\nFor Location,\nContact Subcommittee Chair \n\nWellbore 
 Intercept  Sub-committee - contact Benny Poedjono (poedjono1@outlook.com)\
 n10:00\n12:00\n\n\nLunch - please pre-register and especially if any aller
 gies\n12:00\n13:00\n\n\nEducation Sub-Committee - contact Mahmoud ElGizawy
  (melgizawy@slb.com)\n13:00\n15:00\n\n\nOWSG Sub-Committee - contact Moham
 ed Elshabrawy (Mohamed.Elshabrawy@shell.com)\n15:00\n17:00\n\n\n\n \n \n\n
 --- This iCal file does *NOT* confirm registration.Event details subject t
 o change. ---\n\n--- By Tendenci - The Open Source AMS for Associations --
 -\n
UID:uid114@iscwsa.net
SUMMARY:ISCWSA #60 - New Orleans, Louisiana, USA
DTSTART:20240925T130000Z
DTEND:20240926T220000Z
CLASS:PUBLIC
PRIORITY:5
DTSTAMP:20260425T111312Z
TRANSP:OPAQUE
SEQUENCE:0
LOCATION:Ernest N. Morial Convention Center
X-ALT-DESC;FMTTYPE=text/html:<div>--- This iCal file does *NOT* confirm re
 gistration.Event details subject to change. ---</div><h1>Event Title: ISCW
 SA #60 - New Orleans, Louisiana, USA</h1><div>https://www.iscwsa.net/event
 s/114/</div><br /><div>When: Sep 25, 2024 08:00 AM US/Central</div><div>Sp
 eaker: John de Wardt</div><br />Ernest N. Morial Convention Center<br />90
 0 Convention Center Blvd.<br />New Orleans, LA 70130<br /><div>http://maps
 .google.com/maps?q=900+Convention+Center+Blvd.,New Orleans,LA,70130</div><
 br /><div>Forecast: http://www.weather.com/weather/monthly/70130</div><br 
 /><br /><div><p>The 60th Meeting of the ISCWSA took place in New Orleans o
 n 26th September 2024, in conjunction with the SPE Annual Technical Confer
 ence and Exhibition.</p> <p>See the agenda presentation links below:</p> <
 p>Subcommittee working group meetings were held on 25th September.</p> <p>
 For access to attend future Subcommittee meetings, pre-register with the a
 ppropriate Subcommittee Chair.</p> <p>&nbsp\;</p> <p>&nbsp\;</p> <p><stron
 g>Keynote Speaker : John deWardt</strong></p> <p><strong>"Looking Back, Lo
 oking Now, Looking Forward &ndash\; the path of wellbore surveying"</stron
 g></p> <p>&nbsp\;</p> <p>In 1980, Chris Wolff and John published their lan
 dmark paper on borehole position uncertainty commonly called the &lsquo\;W
 olff and de Wardt systematic error model&rsquo\; (SPE 9223). Since that ti
 me John has been a borehole survey accuracy advocate as chair and committe
 e member on SPE WPTS technical workshops, in various industry presentation
 s and as a consultant to many oil companies globally.</p> <p>&nbsp\;</p> <
 p>He has authored 46 published papers and articles and led 21 industry for
 ums, workshops and symposiums. John is a Distinguished Lecturer of SPE in 
 1995 / 96 and 2020 / 21. He has been a member of SPE for 45 years, and rem
 ains a key contibrutor to Drilling Systems Automation.</p> <p>&nbsp\;</p> 
 <p>John&rsquo\;s history and accomplishments can be found on linkedin at h
 ttp://www.linkedin.com/in/johndewardt</p> <p>&nbsp\;</p> <p>&nbsp\;</p> <p
 >&nbsp\;</p> <p>&nbsp\;</p> <p>&nbsp\;</p> <p>&nbsp\;</p> <h3>Agenda - Mai
 n Meeting Thursday 26th September</h3> <table width="1145"> <tbody> <tr> <
 td width="229">Activity</td> <td width="271">Presenter(s)</td> <td width="
 474">Title / Sponsor</td> <td width="82">From&nbsp\;</td> <td width="89">T
 o</td> </tr> <tr> <td>Coffee &amp\; Registration</td> <td width="271">&nbs
 p\;</td> <td width="474">Thursday morning registration</td> <td width="82"
 >7:45</td> <td width="89">8:00</td> </tr> <tr> <td>Introduction</td> <td w
 idth="271">Hans Dreisig (Total Energies) ISCWSA Chair</td> <td width="474"
 >Introduction</td> <td width="82">8:00</td> <td width="89">8:05</td> </tr>
  <tr> <td>Program Agenda</td> <td width="271">Andy McGregor (H&amp\;P ) IS
 CWSA Program Chair</td> <td width="474">Schedule and Program Overview</td>
  <td width="82">8:05</td> <td width="89">8:10</td> </tr> <tr> <td>Keynote 
 Speaker</td> <td width="271">John de Wardt (deWardt and Company)</td> <td 
 width="474"><a title="Looking Back, Looking Now, Looking Forward&nbsp\;J d
 e Wardt" href="/files/965/">Looking Back, Looking Now, Looking Forward&nbs
 p\;</a></td> <td width="82">8:10</td> <td width="89">9:10</td> </tr> <tr> 
 <td>Sub-Committee Update</td> <td width="271">Mahmoud ElGizawy (SLB)</td> 
 <td width="474"><a title="Education Sub-Committee Report" href="/files/964
 /">Education Sub-Committee Report</a></td> <td width="82">9:10</td> <td wi
 dth="89">9:25</td> </tr> <tr> <td>Technical Presentation</td> <td width="2
 71">Arnaud Chulliat (NOAA)</td> <td width="474"><a title="Enhanced Models 
 and Implementations for Minimizing Uncertainty in External Magnetic Fields
 &nbsp\;" href="/files/970/">Enhanced Models and Implementations for Minimi
 zing Uncertainty in External Magnetic Fields&nbsp\;</a></td> <td width="82
 ">9:25</td> <td width="89">9:55</td> </tr> <tr> <td>Coffee Break</td> <td 
 width="271">&nbsp\;</td> <td width="474">Coffee Break</td> <td width="82">
 9:55</td> <td width="89">10:15</td> </tr> <tr> <td>Technical Presentation<
 /td> <td width="271">Karsten Husby (UIS)</td> <td width="474">Active Magne
 tic Ranging from Bottom Hole Assembly - NOT RELEASED TO PUBLIC contact <a 
 href="mailto:Karsten.husby@sintef.no">Karsten.husby@sintef.no</a> for furt
 her information&nbsp\;</td> <td width="82">10:15</td> <td width="89">10:45
 </td> </tr> <tr> <td>Sub-Committee Update</td> <td width="271">Phil Harbid
 ge (Halliburton)</td> <td width="474"><a title="QA\QC Sub-Committee Report
  + Webmaster Update" href="/files/971/">QA\QC Sub-Committee Report + Webma
 ster Update</a></td> <td width="82">10:45</td> <td width="89">11:05</td> <
 /tr> <tr> <td>Technical Presentation</td> <td width="271">Jonathan Lightfo
 ot (Occidental)</td> <td width="474"><a title="Recommended Practice for Sa
 fe Well Positioning, Separation, and Surveying" href="/files/974/">Recomme
 nded Practice for Safe Well Positioning, Separation, and Surveying</a></td
 > <td width="82">11:05</td> <td width="89">11:35</td> </tr> <tr> <td>Sub-C
 ommittee Update</td> <td width="271">Mohamed Elshabrawy (Shell)</td> <td w
 idth="474"><a title="OWSG Sub-Committee Report" href="/files/962/">OWSG Su
 b-Committee Report</a></td> <td width="82">11:35</td> <td width="89">11:50
 </td> </tr> <tr> <td>Lunch</td> <td width="271">&nbsp\;</td> <td width="47
 4">Lunch</td> <td width="82">12:00</td> <td width="89">13:00</td> </tr> <t
 r> <td>Panel Discussion</td> <td width="271">Ross Lowden (SLB)</td> <td wi
 dth="474">Panel Discussion - Importance of Survey Accuracy to G&amp\;G and
  Resevoir Modelling</td> <td width="82">13:00</td> <td width="89">13:45</t
 d> </tr> <tr> <td>Sub-Committee Update</td> <td width="271">Darren Aklesta
 d (SLB) and&nbsp\;Marc Willerth (H&amp\;P)</td> <td width="474"><a title="
 Collision Avoidance Sub-committee Report" href="/files/964/">Collision Avo
 idance &amp\; Error Model&nbsp\; Sub-committees Report</a></td> <td width=
 "82">13:45</td> <td width="89">14:00</td> </tr> <tr> <td>Technical Present
 ation</td> <td width="271">Koen Noy (Shell)</td> <td width="474"><a title=
 "MWD and Gyro Survey Tool Quality Management System&nbsp\;	" href="/files/
 969/">MWD and Gyro Survey Tool Quality Management System&nbsp\;</a></td> <
 td width="82">14:00</td> <td width="89">14:30</td> </tr> <tr> <td>Sub-Comm
 ittee Update</td> <td width="271">Marc Willerth (H&amp\;P)</td> <td width=
 "474"><a title="Collision Avoidance Sub-committee Report" href="/files/964
 /">Collision Avoidance &amp\; Error Model&nbsp\; Sub-committees Report</a>
 </td> <td width="82">14:30</td> <td width="89">14:45</td> </tr> <tr> <td>A
 dministration</td> <td width="271">Hans Dreisig (Total Energies)</td> <td 
 width="474">Elections - Member At Large</td> <td width="82">14:45</td> <td
  width="89">15:00</td> </tr> <tr> <td>Coffee Break</td> <td width="271">&n
 bsp\;</td> <td width="474">Coffee Break</td> <td width="82">15:00</td> <td
  width="89">15:20</td> </tr> <tr> <td>Technical Presentation</td> <td widt
 h="271">Josh Albright (SuperiorQC)</td> <td width="474"><a title="Validati
 on of Well Placement within the Planned Ellipse of Uncertainty Excluding O
 ut of Spec Surveys" href="/files/967/">Validation of Well Placement within
  the Planned Ellipse of Uncertainty Excluding Out of Spec Surveys</a>&nbsp
 \;</td> <td width="82">15:20</td> <td width="89">15:50</td> </tr> <tr> <td
 >Sub-Committee Update</td> <td width="271">Benny Poedjono (Independent)</t
 d> <td width="474"><a title="Well Intercept Sub-Committee Report	" href="/
 files/972/">Well Intercept Sub-Committee Report</a></td> <td width="82">15
 :50</td> <td width="89">16:05</td> </tr> <tr> <td>Administration Report</t
 d> <td width="271">Robert Wylie (xnDrilling)</td> <td width="474"><a title
 ="Treasurer's Report	" href="/files/966/">Treasurer's Report</a></td> <td 
 width="82">16:05</td> <td width="89">16:15</td> </tr> <tr> <td>Technical P
 resentation</td> <td width="271">Georgy Rassadkin (Gunnar Energy Services)
 </td> <td width="474"><a title="The Future of Wellbore Intercept Technolog
 y: Adhering to the Strictest Environmental and Economic Standards in Compl
 ex Well Abandonments&nbsp\;	" href="/files/973/">The Future of Wellbore In
 tercept Technology: Adhering to the Strictest Environmental and Economic S
 tandards in Complex Well Abandonments&nbsp\;</a></td> <td width="82">16:15
 </td> <td width="89">16:45</td> </tr> <tr> <td>Closeout</td> <td width="27
 1">Hans Dreisig (Total Energies)</td> <td width="474"> <table> <tbody> <tr
 > <td width="474">Closeout</td> </tr> </tbody> </table> </td> <td width="8
 2">16:45</td> <td width="89">16:50</td> </tr> </tbody> </table> <p>&nbsp\;
 </p> <p>&nbsp\;</p> <h3>Sub-committees - Wednesday 25th September</h3> <ta
 ble width="1145"> <tbody> <tr> <td rowspan="4" width="229"> <p>For Locatio
 n,</p> <p>Contact Subcommittee Chair&nbsp\;</p> </td> <td colspan="2" widt
 h="745">QA\QC Sub-Committee - contact Phil Harbidge (Phil.Harbidge@hallibu
 rton.com)</td> <td width="82">09:00</td> <td width="89">12:00</td> </tr> <
 tr> <td colspan="2" width="745">Lunch - please pre-register and especially
  if any allergies</td> <td width="82">12:00</td> <td width="89">13:00</td>
  </tr> <tr> <td colspan="2" width="745">Error Model &amp\; Collision Avoid
 ance Sub-Committees Combined</td> <td rowspan="2" width="82">13:00</td> <t
 d rowspan="2" width="89">16:30</td> </tr> <tr> <td colspan="2" width="745"
 >- contact Darren Aklestad (aklestad@slb.com) or Marc Willerth (marc.wille
 rth@hpinc.com)</td> </tr> <tr> <td rowspan="4" width="229"> <p>For Locatio
 n,</p> <p>Contact Subcommittee Chair&nbsp\;</p> </td> <td colspan="2">Well
 bore Intercept&nbsp\; Sub-committee - contact Benny Poedjono (poedjono1@ou
 tlook.com)</td> <td width="82">10:00</td> <td width="89">12:00</td> </tr> 
 <tr> <td colspan="2" width="745">Lunch - please pre-register and especiall
 y if any allergies</td> <td width="82">12:00</td> <td width="89">13:00</td
 > </tr> <tr> <td colspan="2" width="745">Education Sub-Committee - contact
  Mahmoud ElGizawy (melgizawy@slb.com)</td> <td width="82">13:00</td> <td w
 idth="89">15:00</td> </tr> <tr> <td colspan="2" width="745">OWSG Sub-Commi
 ttee - contact Mohamed Elshabrawy (Mohamed.Elshabrawy@shell.com)</td> <td 
 width="82">15:00</td> <td width="89">17:00</td> </tr> </tbody> </table> <p
 >&nbsp\;</p> <p>&nbsp\;</p></div><div>--- This iCal file does *NOT* confir
 m registration.Event details subject to change. ---</div><div>--- Tendenci
 &reg\; Software by <a href="https://www.tendenci.com">tendenci.com</a> - T
 he Open Source AMS for Associations ---</div>
BEGIN:VALARM
TRIGGER:-PT30M
ACTION:DISPLAY
DESCRIPTION:Reminder
END:VALARM
END:VEVENT
END:VCALENDAR
